BEGIN:VCALENDAR
VERSION:2.0
PRODID:-//ChamberMaster//Event Calendar 2.0//EN
METHOD:PUBLISH
X-PUBLISHED-TTL:P3D
REFRESH-INTERVAL:P3D
CALSCALE:GREGORIAN
BEGIN:VEVENT
DTSTART:20180410T163000Z
DTEND:20180410T180000Z
X-MICROSOFT-CDO-ALLDAYEVENT:FALSE
SUMMARY:Business Builders Workshop - Communicating Across the Generations
DESCRIPTION:This workshop sold out in 2017 - Be sure to register early as seating is limited!\n\n\n\nFor the first time we have four generations in the workplace striving to be productive and effective.  Each generation comes from diverse backgrounds\, they communicate differently\, are motivated by various factors\, and want different things from their work. This interactive workshop will help you bridge the communications gap and learn to work with people in other generations better.\n\n\n\nPresented by Jennifer Hendrickson with Hendrickson Business Advisors.  \n\n\n\n$15 per person - includes lunch
X-ALT-DESC;FMTTYPE=text/html:<span style="font-family:arial\;"><span style="color:#000000\;">This workshop sold out in 2017 - Be sure to register early as seating is limited!<br />\n<br />\nFor the first time we have four generations in the workplace striving to be productive and effective.&nbsp\; Each generation comes from diverse backgrounds\, they communicate differently\, are motivated by various factors\, and want different things from their work. This interactive workshop will help you bridge the communications gap and learn to work with people in other generations better.</span><br />\n<br />\nPresented by Jennifer Hendrickson with Hendrickson Business Advisors. &nbsp\;</span><br />\n<br />\n$15 per person - includes lunch&nbsp\;<br />\n<br />\n&nbsp\;
LOCATION:Cape Chamber - Regional Development Center 220 North Fountain St.
UID:e.1421.4268
SEQUENCE:3
DTSTAMP:20260423T235430Z
URL:https://business.capechamber.com/events/details/business-builders-workshop-communicating-across-the-generations-4268
END:VEVENT

END:VCALENDAR
