BEGIN:VCALENDAR
VERSION:2.0
PRODID:-//ChamberMaster//Event Calendar 2.0//EN
METHOD:PUBLISH
X-PUBLISHED-TTL:P3D
REFRESH-INTERVAL:P3D
CALSCALE:GREGORIAN
BEGIN:VEVENT
DTSTART:20190115T173000Z
DTEND:20190115T190000Z
X-MICROSOFT-CDO-ALLDAYEVENT:FALSE
SUMMARY:Business Builders Workshop - Get OnBoard!
DESCRIPTION:New employees can be vulnerable\, out of their element\, stressed\, and eager to please. According to Equifax data\, more than 50% of employees who left their jobs did so within the first 12 months of employment. This fact\, coupled with how expensive and time-consuming it can be to hire new employees\, makes detailed and thoughtful onboarding more important than ever.\n\n\n\nPlease join us for our first Business Builders Workshop of the year to learn onboarding tips\, tricks\, and best practices from a panel of experts.\n\n\n\nSource
X-ALT-DESC;FMTTYPE=text/html:New employees can be vulnerable\, out of their element\, stressed\, and eager to please. According to <a href="https://www.equifax.com/business/manage-my-workforce/" target="_blank"><span style="color:#008000\;">Equifax data</span></a>\, more than 50% of employees who left their jobs did so within the first 12 months of employment. This fact\, coupled with how expensive and time-consuming it can be to hire new employees\, makes detailed and thoughtful onboarding more important than ever.<br />\n<br />\nPlease join us for our first Business Builders Workshop of the year to learn onboarding tips\, tricks\, and best practices from a panel of experts.<br />\n<br />\n<em><span style="font-size:10px\;"><a href="https://blog.wagepoint.com/all-content/the-step-by-step-guide-to-new-hire-onboarding" target="_blank"><span style="color:#008000\;">Source</span></a></span></em>
LOCATION:Regional Development Center\, Cape Chamber 220 N. Fountain St. Cape Girardeau\, MO 63701
UID:e.1421.5708
SEQUENCE:3
DTSTAMP:20260424T055857Z
URL:https://business.capechamber.com/events/details/business-builders-workshop-get-onboard-5708
END:VEVENT

END:VCALENDAR
