BEGIN:VCALENDAR
VERSION:2.0
PRODID:-//ChamberMaster//Event Calendar 2.0//EN
METHOD:PUBLISH
X-PUBLISHED-TTL:P3D
REFRESH-INTERVAL:P3D
CALSCALE:GREGORIAN
BEGIN:VEVENT
DTSTART:20200306T150000Z
DTEND:20200306T223000Z
X-MICROSOFT-CDO-ALLDAYEVENT:FALSE
SUMMARY:Business Success Series Workshop
DESCRIPTION:Brought to you by the Small Business Development Center\, join one\, two\, three\, or all four business workshops to explore how to grow your business!\n\n\n\nBusiness Success Series 2020\n\n \n\n	Ready\, Set\, Startup   9 to 10:30 am - Join us to learn about the seven most important steps to take when starting your own business. We'll explore startup steps such as how to sketch your business model\, start-up costs\, legal steps\, marketing\, and more practical things)\n	Strategic Growth   11 to 12:30pm - In the Strategic Growth workshop we'll explore and use a management tool called GrowthWheel. The GrowthWheel tool provides a 360 perspective on your business\, helps you identify focus areas\, make decisions\, and take action!\n	Creating Your Brand Experience   1 to 2:30pm - Join us to explore how your business can identify and implement a strong and recognizable brand. Learn how to create the experience you want your customers to remember and talk about for hours\, day\, and months.\n	10 Ways to Innovate   3 to 4:30pm- In this workshop we'll explore 10 different ways businesses can identify and develop innovations within their company.\n\n\n\nRegister at https://engage.semo.edu/register (select semester: SBDC Workshops)\n\n\n\nEmail sbtdc@semo.edu for more information
X-ALT-DESC;FMTTYPE=text/html:Brought to you by the Small Business Development Center\, join one\, two\, three\, or all four business workshops to explore how to grow your business!<br />\n<br />\n<span style="font-size:14px\;"><strong>Business Success Series 2020</strong></span><br />\n&nbsp\;\n<ul>\n	<li><strong>Ready\, Set\, Startup</strong> &ndash\; 9 to 10:30 am - Join us to learn about the seven most important steps to take when starting your own business. We&rsquo\;ll explore startup steps such as how to sketch your business model\, start-up costs\, legal steps\, marketing\, and more practical things)</li>\n	<li><strong>Strategic Growth</strong> &ndash\; 11 to 12:30pm - In the Strategic Growth workshop we&rsquo\;ll explore and use a management tool called GrowthWheel. The GrowthWheel tool provides a 360 perspective on your business\, helps you identify focus areas\, make decisions\, and take action!</li>\n	<li><strong>Creating Your Brand Experience</strong> &ndash\; 1 to 2:30pm - Join us to explore how your business can identify and implement a strong and recognizable brand. Learn how to create the experience you want your customers to remember and talk about for hours\, day\, and months.</li>\n	<li><strong>10 Ways to Innovate</strong> &ndash\; 3 to 4:30pm- In this workshop we&rsquo\;ll explore 10 different ways businesses can identify and develop innovations within their company.</li>\n</ul>\n<br />\nRegister at<a href="http://https://engage.semo.edu/register" target="_blank"> https://engage.semo.edu/register</a> (select semester: SBDC Workshops)<br />\n<br />\nEmail <a href="mailto:sbtdc@semo.edu">sbtdc@semo.edu</a> for more information<br />\n&nbsp\;
LOCATION:920 Broadway Cape Girardeau\, MO
UID:e.1421.6720
SEQUENCE:3
DTSTAMP:20260423T101430Z
URL:https://business.capechamber.com/events/details/business-success-series-workshop-6720
END:VEVENT

END:VCALENDAR
