BEGIN:VCALENDAR
VERSION:2.0
PRODID:-//ChamberMaster//Event Calendar 2.0//EN
METHOD:PUBLISH
X-PUBLISHED-TTL:P3D
REFRESH-INTERVAL:P3D
CALSCALE:GREGORIAN
BEGIN:VEVENT
DTSTART:20191126T180000Z
DTEND:20191126T183000Z
X-MICROSOFT-CDO-ALLDAYEVENT:FALSE
SUMMARY:Cape Area Community Foundation Ribbon Cutting
DESCRIPTION:Help us welcome Cape Area Community Foundation to the Cape Chamber and learn a little more about the upcoming Giving Tuesday at their ribbon cutting!
X-ALT-DESC;FMTTYPE=text/html:Help us welcome Cape Area Community Foundation to the Cape Chamber and learn a little more about the upcoming Giving Tuesday at their ribbon cutting!
LOCATION:980 N Kingshighway Suite 103 Cape Girardeau\, MO
UID:e.1421.6503
SEQUENCE:3
DTSTAMP:20260423T141908Z
URL:https://business.capechamber.com/events/details/cape-area-community-foundation-ribbon-cutting-6503
END:VEVENT

END:VCALENDAR
