BEGIN:VCALENDAR
VERSION:2.0
PRODID:-//ChamberMaster//Event Calendar 2.0//EN
METHOD:PUBLISH
X-PUBLISHED-TTL:P3D
REFRESH-INTERVAL:P3D
CALSCALE:GREGORIAN
BEGIN:VEVENT
DTSTART:20171012T203000Z
DTEND:20171012T210000Z
X-MICROSOFT-CDO-ALLDAYEVENT:FALSE
SUMMARY:Cape Cars Ribbon Cutting
DESCRIPTION:Join us as we celebrate the grand re-opening of Cape Cars!
X-ALT-DESC;FMTTYPE=text/html:Join us as we celebrate the grand re-opening of Cape Cars!
LOCATION:2856 Sappington Dr Jackson\, MO
UID:e.1421.1797
SEQUENCE:3
DTSTAMP:20260423T142016Z
URL:https://business.capechamber.com/events/details/cape-cars-ribbon-cutting-1797
END:VEVENT

END:VCALENDAR
