BEGIN:VCALENDAR
VERSION:2.0
PRODID:-//ChamberMaster//Event Calendar 2.0//EN
METHOD:PUBLISH
X-PUBLISHED-TTL:P3D
REFRESH-INTERVAL:P3D
CALSCALE:GREGORIAN
BEGIN:VEVENT
DTSTART:20190228T220000Z
DTEND:20190228T223000Z
X-MICROSOFT-CDO-ALLDAYEVENT:FALSE
SUMMARY:Cape Catfish Ribbon Cutting
DESCRIPTION:Join us for a ribbon cutting celebrating Cape Catfish's Grand Opening.
X-ALT-DESC;FMTTYPE=text/html:Join us for a ribbon cutting celebrating Cape Catfish&#39\;s Grand Opening.&nbsp\;
LOCATION:83 S. Plaza Way Cape Girardeau\, MO
UID:e.1421.5914
SEQUENCE:3
DTSTAMP:20260424T044119Z
URL:https://business.capechamber.com/events/details/cape-catfish-ribbon-cutting-5914
END:VEVENT

END:VCALENDAR
