BEGIN:VCALENDAR
VERSION:2.0
PRODID:-//ChamberMaster//Event Calendar 2.0//EN
METHOD:PUBLISH
X-PUBLISHED-TTL:P3D
REFRESH-INTERVAL:P3D
CALSCALE:GREGORIAN
BEGIN:VEVENT
DTSTART:20180302T220000Z
DTEND:20180302T223000Z
X-MICROSOFT-CDO-ALLDAYEVENT:FALSE
SUMMARY:Cape Girardeau Police Department & Municipal Court Ribbon Cutting
DESCRIPTION:Join us as we celebrate the grand opening of the police department's new location!
X-ALT-DESC;FMTTYPE=text/html:Join us as we celebrate the grand opening of the police department&#39\;s new location!
LOCATION:2530 Maria Louise Ln Cape Girardeau\, MO
UID:e.1421.3879
SEQUENCE:3
DTSTAMP:20260423T222426Z
URL:https://business.capechamber.com/events/details/cape-girardeau-police-department-municipal-court-ribbon-cutting-3879
END:VEVENT

END:VCALENDAR
