BEGIN:VCALENDAR
VERSION:2.0
PRODID:-//ChamberMaster//Event Calendar 2.0//EN
METHOD:PUBLISH
X-PUBLISHED-TTL:P3D
REFRESH-INTERVAL:P3D
CALSCALE:GREGORIAN
BEGIN:VEVENT
DTSTART:20171201T173000Z
DTEND:20171201T183000Z
X-MICROSOFT-CDO-ALLDAYEVENT:FALSE
SUMMARY:Cape Girardeau Regional Airport Ribbon Cutting
DESCRIPTION:Join us as we celebrate the first flight of the new airline at the Cape Girardeau Regional Airport!
X-ALT-DESC;FMTTYPE=text/html:Join us as we celebrate the first flight of the new airline at the Cape Girardeau&nbsp\;Regional Airport!
LOCATION:860 Limbaugh Dr Cape Girardeau\, MO
UID:e.1421.1828
SEQUENCE:3
DTSTAMP:20260423T174223Z
URL:https://business.capechamber.com/events/details/cape-girardeau-regional-airport-ribbon-cutting-1828
END:VEVENT

END:VCALENDAR
