BEGIN:VCALENDAR
VERSION:2.0
PRODID:-//ChamberMaster//Event Calendar 2.0//EN
METHOD:PUBLISH
X-PUBLISHED-TTL:P3D
REFRESH-INTERVAL:P3D
CALSCALE:GREGORIAN
BEGIN:VEVENT
DTSTART:20190107T213000Z
DTEND:20190107T220000Z
X-MICROSOFT-CDO-ALLDAYEVENT:FALSE
SUMMARY:Cape Girardeau Regional Airport Ribbon Cutting
DESCRIPTION:Join us in celebrating the expansion of Cape Girardeau Regional Airport's flight service to include a third\, round-trip flight. The first arrival of the additional round-trip flight is scheduled to land at 3:36 PM and will be celebrated with a ribbon cutting.\n\nPlease plan to arrive early as the timing may vary slightly.
X-ALT-DESC;FMTTYPE=text/html:Join us in celebrating the expansion of Cape Girardeau Regional Airport&#39\;s flight service to include a third\, round-trip flight. The first arrival of the additional round-trip flight is scheduled to land at 3:36 PM and will be celebrated with a ribbon cutting.<br />\n<em>Please plan to arrive early as the timing may vary slightly.&nbsp\;</em>
LOCATION:860 Limbaugh Drive Cape Girardeau\, MO
UID:e.1421.5730
SEQUENCE:3
DTSTAMP:20260424T061643Z
URL:https://business.capechamber.com/events/details/cape-girardeau-regional-airport-ribbon-cutting-5730
END:VEVENT

END:VCALENDAR
