BEGIN:VCALENDAR
VERSION:2.0
PRODID:-//ChamberMaster//Event Calendar 2.0//EN
METHOD:PUBLISH
X-PUBLISHED-TTL:P3D
REFRESH-INTERVAL:P3D
CALSCALE:GREGORIAN
BEGIN:VEVENT
DTSTART:20190515T150000Z
DTEND:20190515T153000Z
X-MICROSOFT-CDO-ALLDAYEVENT:FALSE
SUMMARY:Cape Living Magazine Ribbon Cutting
DESCRIPTION:Join us in celebrating the first publication of Cape Living Magazine with a ribbon cutting hosted by Holloway Carpet One.
X-ALT-DESC;FMTTYPE=text/html:Join us in celebrating the first publication of Cape Living Magazine with a ribbon cutting hosted by Holloway Carpet One.&nbsp\;
LOCATION:831 S. Kingshighway Cape Girardeau\, MO
UID:e.1421.6120
SEQUENCE:3
DTSTAMP:20260424T001858Z
URL:https://business.capechamber.com/events/details/cape-living-magazine-ribbon-cutting-6120
END:VEVENT

END:VCALENDAR
