BEGIN:VCALENDAR
VERSION:2.0
PRODID:-//ChamberMaster//Event Calendar 2.0//EN
METHOD:PUBLISH
X-PUBLISHED-TTL:P3D
REFRESH-INTERVAL:P3D
CALSCALE:GREGORIAN
BEGIN:VEVENT
DTSTART:20171109T150000Z
DTEND:20171110T033000Z
X-MICROSOFT-CDO-ALLDAYEVENT:FALSE
SUMMARY:Capetown Retirement Living Cottages Ribbon Cutting
DESCRIPTION:Join us in celebrating the completion of four new cottages at Capetown Retirement Living!
X-ALT-DESC;FMTTYPE=text/html:Join us in celebrating the completion of four new cottages at Capetown Retirement Living!
LOCATION:2857 Cape La Croix Rd Cape Girardeau\, MO *Off Route W
UID:e.1421.1811
SEQUENCE:3
DTSTAMP:20260423T155340Z
URL:https://business.capechamber.com/events/details/capetown-retirement-living-cottages-ribbon-cutting-1811
END:VEVENT

END:VCALENDAR
