BEGIN:VCALENDAR
VERSION:2.0
PRODID:-//ChamberMaster//Event Calendar 2.0//EN
METHOD:PUBLISH
X-PUBLISHED-TTL:P3D
REFRESH-INTERVAL:P3D
CALSCALE:GREGORIAN
BEGIN:VEVENT
DTSTART:20180226T163000Z
DTEND:20180226T170000Z
X-MICROSOFT-CDO-ALLDAYEVENT:FALSE
SUMMARY:Captain D's Ribbon Cutting
DESCRIPTION:Join us as we celebrate the grand opening of Captain D's in Cape Girardeau!
X-ALT-DESC;FMTTYPE=text/html:Join us as we celebrate the grand opening of Captain D&#39\;s in Cape Girardeau!
LOCATION:205 S Kingshighway Cape Girardeau\, MO
UID:e.1421.3913
SEQUENCE:3
DTSTAMP:20260423T205916Z
URL:https://business.capechamber.com/events/details/captain-d-s-ribbon-cutting-3913
END:VEVENT

END:VCALENDAR
