BEGIN:VCALENDAR
VERSION:2.0
PRODID:-//ChamberMaster//Event Calendar 2.0//EN
METHOD:PUBLISH
X-PUBLISHED-TTL:P3D
REFRESH-INTERVAL:P3D
CALSCALE:GREGORIAN
BEGIN:VEVENT
DTSTART:20180301T160000Z
DTEND:20180301T200000Z
X-MICROSOFT-CDO-ALLDAYEVENT:FALSE
SUMMARY:Career Expo
DESCRIPTION:Southeast Missouri State University's Career Expo is upon us!\n\n\n\nMeet your future employees - register for a booth at semo.edu/careers\n\n\n\nRegistration fees:\n\nFor-Profit/Non-Governmental - $200\n\nNon-Profit/Governmental - $100
X-ALT-DESC;FMTTYPE=text/html:Southeast Missouri State University&#39\;s Career Expo is upon us!<br />\n<br />\nMeet your future employees - register for a booth at semo.edu/careers<br />\n<br />\nRegistration fees:<br />\nFor-Profit/Non-Governmental - $200<br />\nNon-Profit/Governmental - $100<br />\n&nbsp\;
LOCATION:Student Recreation Center
UID:e.1421.3885
SEQUENCE:3
DTSTAMP:20260423T222016Z
URL:https://business.capechamber.com/events/details/career-expo-3885
END:VEVENT

END:VCALENDAR
