BEGIN:VCALENDAR
VERSION:2.0
PRODID:-//ChamberMaster//Event Calendar 2.0//EN
METHOD:PUBLISH
X-PUBLISHED-TTL:P3D
REFRESH-INTERVAL:P3D
CALSCALE:GREGORIAN
BEGIN:VEVENT
DTSTART:20170816T153000Z
DTEND:20170816T160000Z
X-MICROSOFT-CDO-ALLDAYEVENT:FALSE
SUMMARY:Castaways Ribbon Cutting
DESCRIPTION:Join us for a ribbon cutting celebrating the opening of a new business in Cape Girardeau\, Castaways. A luxury resale shop for men's\, women's and children's clothing\, jewelry\, and home decor\, Castaways is located at 1372 N. Kingshighway.
X-ALT-DESC;FMTTYPE=text/html:Join us for a ribbon cutting celebrating the opening of a new business in Cape Girardeau\, Castaways. A l<span style="color: rgb(29\, 33\, 41)\; font-family: Helvetica\, Arial\, sans-serif\; font-size: 14px\;">uxury resale shop for men&#39\;s\, women&#39\;s and children&#39\;s clothing\, jewelry\, and home decor\, Castaways is located at 1372 N. Kingshighway.&nbsp\;</span>
LOCATION:1372 N Kingshighway Cape Girardeau\, MO
UID:e.1421.1788
SEQUENCE:3
DTSTAMP:20260423T112727Z
URL:https://business.capechamber.com/events/details/castaways-ribbon-cutting-1788
END:VEVENT

END:VCALENDAR
