BEGIN:VCALENDAR
VERSION:2.0
PRODID:-//ChamberMaster//Event Calendar 2.0//EN
METHOD:PUBLISH
X-PUBLISHED-TTL:P3D
REFRESH-INTERVAL:P3D
CALSCALE:GREGORIAN
BEGIN:VEVENT
DTSTART:20170829T210000Z
DTEND:20170829T213000Z
X-MICROSOFT-CDO-ALLDAYEVENT:FALSE
SUMMARY:Celebrations Ribbon Cutting
DESCRIPTION:Please join us as we celebrate Celebrations' 20 Year Anniversary.
X-ALT-DESC;FMTTYPE=text/html:Please join us as we celebrate Celebrations&#39\; 20 Year Anniversary.
LOCATION:615 Bellevue St Cape Girardeau\, MO
UID:e.1421.1786
SEQUENCE:3
DTSTAMP:20260423T112645Z
URL:https://business.capechamber.com/events/details/celebrations-ribbon-cutting-1786
END:VEVENT

END:VCALENDAR
