BEGIN:VCALENDAR
VERSION:2.0
PRODID:-//ChamberMaster//Event Calendar 2.0//EN
METHOD:PUBLISH
X-PUBLISHED-TTL:P3D
REFRESH-INTERVAL:P3D
CALSCALE:GREGORIAN
BEGIN:VEVENT
DTSTART:20240404T210000Z
DTEND:20240404T213000Z
X-MICROSOFT-CDO-ALLDAYEVENT:FALSE
SUMMARY:Century Casino Hotel Ribbon Cutting
DESCRIPTION:Join us as we celebrate Century Casino's Hotel Grand Opening with a ribbon cutting!
X-ALT-DESC;FMTTYPE=text/html:Join us as we celebrate <a href="https://business.capechamber.com/list/member/century-casino-6339" target="_blank"><span style="color:#38B449\;">Century Casino&#39\;s</span></a>&nbsp\;Hotel Grand Opening with a ribbon cutting!&nbsp\;
LOCATION:777 North Main Street Cape Girardeau\, MO 63701
UID:e.1421.10376
SEQUENCE:3
DTSTAMP:20260424T110730Z
URL:https://business.capechamber.com/events/details/century-casino-hotel-ribbon-cutting-10376
END:VEVENT

END:VCALENDAR
