BEGIN:VCALENDAR
VERSION:2.0
PRODID:-//ChamberMaster//Event Calendar 2.0//EN
METHOD:PUBLISH
X-PUBLISHED-TTL:P3D
REFRESH-INTERVAL:P3D
CALSCALE:GREGORIAN
BEGIN:VEVENT
DTSTART:20251205T150000Z
DTEND:20251205T153000Z
X-MICROSOFT-CDO-ALLDAYEVENT:FALSE
SUMMARY:Century Casino Ribbon Cutting
DESCRIPTION:Join us as we celebrate the new Sportsbook at Century Casino with a ribbon cutting!
X-ALT-DESC;FMTTYPE=text/html:Join us as we celebrate the new Sportsbook at <a href="https://business.capechamber.com/list/member/century-casino-6339"><span style="color:#00cc33\;">Century Casino</span></a><font color="#38b449">&nbsp\;</font>with a ribbon cutting!&nbsp\;
LOCATION:777 North Main Street Cape Girardeau\, MO 63701 In the Casino Lobby
UID:e.1421.12644
SEQUENCE:3
DTSTAMP:20260424T184755Z
URL:https://business.capechamber.com/events/details/century-casino-ribbon-cutting-12644
END:VEVENT

END:VCALENDAR
