BEGIN:VCALENDAR
VERSION:2.0
PRODID:-//ChamberMaster//Event Calendar 2.0//EN
METHOD:PUBLISH
X-PUBLISHED-TTL:P3D
REFRESH-INTERVAL:P3D
CALSCALE:GREGORIAN
BEGIN:VEVENT
DTSTART:20171220T213000Z
DTEND:20171220T230000Z
X-MICROSOFT-CDO-ALLDAYEVENT:FALSE
SUMMARY:Chamber 101
DESCRIPTION:This past year has brought many new and exciting changes for the Cape Chamber. We launched our member-exclusive Member Information Center\, expanded our team to enhance the membership experience\, rebranded and implemented a new website\, and are currently in the process of executing a Talent Attraction Campaign in an effort to improve area talent.\n\n\n\nWe would enjoy the opportunity to share more with you about each of these things and other ways the Chamber can benefit your organization. So\, whether you're new to the Cape Chamber\, a life-long member\, or just interested in learning more about what the Cape Chamber can offer you and your business\, please join us for our free quarterly Chamber 101 event.
X-ALT-DESC;FMTTYPE=text/html:This past year has brought many new and exciting changes for the Cape Chamber. We launched our member-exclusive Member Information Center\, expanded our team to enhance the membership experience\, rebranded and implemented a new website\, and are currently in the process of executing a Talent Attraction Campaign in an effort to improve area talent.<br />\n<br />\nWe would enjoy the opportunity to share more with you about each of these things and other ways the Chamber can benefit your organization. So\, whether you&#39\;re new to the Cape Chamber\, a life-long member\, or just interested in learning more about what the Cape Chamber can offer you and your business\, please join us for our free quarterly Chamber 101 event.&nbsp\;
LOCATION:Cape Chamber 220 N Fountain St. Cape Girardeau\, MO Parking is available in both lots behind the Marquette Tower and the former H & H Building.
UID:e.1421.1829
SEQUENCE:3
DTSTAMP:20260423T173735Z
URL:https://business.capechamber.com/events/details/chamber-101-1829
END:VEVENT

END:VCALENDAR
