BEGIN:VCALENDAR
VERSION:2.0
PRODID:-//ChamberMaster//Event Calendar 2.0//EN
METHOD:PUBLISH
X-PUBLISHED-TTL:P3D
REFRESH-INTERVAL:P3D
CALSCALE:GREGORIAN
BEGIN:VEVENT
DTSTART:20170706T143000Z
DTEND:20170706T150000Z
X-MICROSOFT-CDO-ALLDAYEVENT:FALSE
SUMMARY:Chateau Girardeau Ribbon Cutting
DESCRIPTION:Chateau Girardeau is celebrating the recent completion of 7 estate homes on their campus with a ribbon cutting. Please plan to arrive at Entrance A a minimum of 10 minutes early to be shuttled to the ribbon cutting location.
X-ALT-DESC;FMTTYPE=text/html:Chateau Girardeau&nbsp\;is celebrating the recent completion of 7 estate homes on their campus with a ribbon cutting. Please plan to arrive at Entrance A a minimum of 10 minutes early to be shuttled to the ribbon cutting location.&nbsp\;
LOCATION:3120 Independence St. ENTRANCE A Cape Girardeau\, MO
UID:e.1421.760
SEQUENCE:3
DTSTAMP:20260423T101613Z
URL:https://business.capechamber.com/events/details/chateau-girardeau-ribbon-cutting-760
END:VEVENT

END:VCALENDAR
