BEGIN:VCALENDAR
VERSION:2.0
PRODID:-//ChamberMaster//Event Calendar 2.0//EN
METHOD:PUBLISH
X-PUBLISHED-TTL:P3D
REFRESH-INTERVAL:P3D
CALSCALE:GREGORIAN
BEGIN:VEVENT
DTSTART:20250331T140000Z
DTEND:20250331T143000Z
X-MICROSOFT-CDO-ALLDAYEVENT:FALSE
SUMMARY:City of Cape Girardeau Ribbon Cutting
DESCRIPTION:Join us as we celebrate the phase 1 completion of Lexington Road -TTF6 Project with a ribbon cutting!
X-ALT-DESC;FMTTYPE=text/html:Join us as we celebrate the phase 1 completion of Lexington Road -TTF6 Project&nbsp\;with a ribbon cutting!&nbsp\;
LOCATION:1289 Lexington Ave\, Cape Girardeau\, MO. 63701 First Baptist Church northern access\, Lexington adjacent
UID:e.1421.11959
SEQUENCE:3
DTSTAMP:20260420T085738Z
URL:https://business.capechamber.com/events/details/city-of-cape-girardeau-ribbon-cutting-11959
END:VEVENT

END:VCALENDAR
