BEGIN:VCALENDAR
VERSION:2.0
PRODID:-//ChamberMaster//Event Calendar 2.0//EN
METHOD:PUBLISH
X-PUBLISHED-TTL:P3D
REFRESH-INTERVAL:P3D
CALSCALE:GREGORIAN
BEGIN:VEVENT
DTSTART:20260219T193000Z
DTEND:20260219T200000Z
X-MICROSOFT-CDO-ALLDAYEVENT:FALSE
SUMMARY:City of Cape Ribbon Cutting
DESCRIPTION:Join us as we dedicate the skate park at Arena Park with a ribbon cutting!
X-ALT-DESC;FMTTYPE=text/html:Join us as we dedicate the skate park at<span style="color:#00cc33\;"> Arena Park&nbsp\;</span>with a ribbon cutting!&nbsp\;
LOCATION:410 Kiwanis Dr. Cape Girardeau\, MO 63701 Across the road on Rodney
UID:e.1421.12694
SEQUENCE:3
DTSTAMP:20260424T154241Z
URL:https://business.capechamber.com/events/details/city-of-cape-ribbon-cutting-12694
END:VEVENT

END:VCALENDAR
