BEGIN:VCALENDAR
VERSION:2.0
PRODID:-//ChamberMaster//Event Calendar 2.0//EN
METHOD:PUBLISH
X-PUBLISHED-TTL:P3D
REFRESH-INTERVAL:P3D
CALSCALE:GREGORIAN
BEGIN:VEVENT
DTSTART:20180216T210000Z
DTEND:20180216T213000Z
X-MICROSOFT-CDO-ALLDAYEVENT:FALSE
SUMMARY:Coalter Insurance Group Ribbon Cutting
DESCRIPTION:Join us as we celebrate Coalter Insurance Group's newly completed building renovation! Open house will follow ribbon cutting.
X-ALT-DESC;FMTTYPE=text/html:Join us as we celebrate Coalter Insurance Group&#39\;s newly completed building renovation! Open house will follow ribbon cutting.
LOCATION:1001 Independence St. Cape Girardeau\, MO
UID:e.1421.2051
SEQUENCE:3
DTSTAMP:20260423T222206Z
URL:https://business.capechamber.com/events/details/coalter-insurance-group-ribbon-cutting-2051
END:VEVENT

END:VCALENDAR
