BEGIN:VCALENDAR
VERSION:2.0
PRODID:-//ChamberMaster//Event Calendar 2.0//EN
METHOD:PUBLISH
X-PUBLISHED-TTL:P3D
REFRESH-INTERVAL:P3D
CALSCALE:GREGORIAN
BEGIN:VEVENT
DTSTART:20180620T173000Z
DTEND:20180620T173000Z
X-MICROSOFT-CDO-ALLDAYEVENT:FALSE
SUMMARY:Comfort Keepers at Home Help Ribbon Cutting
DESCRIPTION:Comfort Keepers at Home Help recently moved into their new office space. Help us welcome them with a ribbon cutting celebration!
X-ALT-DESC;FMTTYPE=text/html:Comfort Keepers at Home Help recently moved into their new office space. Help us welcome them with a ribbon cutting celebration!&nbsp\;
LOCATION:1918 North Kingshighway Cape Girardeau\, MO
UID:e.1421.5361
SEQUENCE:3
DTSTAMP:20260424T024953Z
URL:https://business.capechamber.com/events/details/comfort-keepers-at-home-help-ribbon-cutting-5361
END:VEVENT

END:VCALENDAR
