BEGIN:VCALENDAR
VERSION:2.0
PRODID:-//ChamberMaster//Event Calendar 2.0//EN
METHOD:PUBLISH
X-PUBLISHED-TTL:P3D
REFRESH-INTERVAL:P3D
CALSCALE:GREGORIAN
BEGIN:VEVENT
DTSTART:20260128T210000Z
DTEND:20260128T213000Z
X-MICROSOFT-CDO-ALLDAYEVENT:FALSE
SUMMARY:Cornerstone Caregiving Ribbon Cutting
DESCRIPTION:Join us as we celebrate the grand opening of Cornerstone Caregiving with a ribbon cutting!
X-ALT-DESC;FMTTYPE=text/html:Join us as we celebrate the grand opening of <a href="https://business.capechamber.com/list/member/cornerstone-caregiving-8758"><span style="color:#00cc33\;">Cornerstone Caregiving</span></a> with a ribbon cutting!&nbsp\;
LOCATION:2504 William St. Ste. 5\, Cape Girardeau\, MO 63703
UID:e.1421.12670
SEQUENCE:3
DTSTAMP:20260424T184739Z
URL:https://business.capechamber.com/events/details/cornerstone-caregiving-ribbon-cutting-12670
END:VEVENT

END:VCALENDAR
