BEGIN:VCALENDAR
VERSION:2.0
PRODID:-//ChamberMaster//Event Calendar 2.0//EN
METHOD:PUBLISH
X-PUBLISHED-TTL:P3D
REFRESH-INTERVAL:P3D
CALSCALE:GREGORIAN
BEGIN:VEVENT
DTSTART:20180911T170000Z
DTEND:20180911T180000Z
X-MICROSOFT-CDO-ALLDAYEVENT:FALSE
SUMMARY:Council of Chairs
DESCRIPTION:Maintain an open line of communication between each committee chair and between the committee chairs and the Board of Directors through the Executive Committee.
X-ALT-DESC;FMTTYPE=text/html:<span style="color: rgb(51\, 51\, 51)\; font-size: 13px\; font-family: &quot\;albertus mt lt&quot\;\;"><span style="font-size: 10pt\;">Maintain an open line of communication between each committee chair and between the committee chairs and the Board of Directors through the Executive Committee.</span></span>
LOCATION:Cape Chamber Training Room
UID:e.1421.2331
SEQUENCE:3
DTSTAMP:20260424T071713Z
URL:https://business.capechamber.com/events/details/council-of-chairs-2331
END:VEVENT

END:VCALENDAR
