BEGIN:VCALENDAR
VERSION:2.0
PRODID:-//ChamberMaster//Event Calendar 2.0//EN
METHOD:PUBLISH
X-PUBLISHED-TTL:P3D
REFRESH-INTERVAL:P3D
CALSCALE:GREGORIAN
BEGIN:VEVENT
DTSTART:20181103T210000Z
DTEND:20181103T213000Z
X-MICROSOFT-CDO-ALLDAYEVENT:FALSE
SUMMARY:Courtyard by Marriott Grand Opening Ribbon Cutting
DESCRIPTION:Join us as we welcome Cape's newest hotel\, Courtyard by Marriott\, with a ribbon cutting. \n\n*Actual ribbon cutting time may vary based on completion of Southeast Missouri State University football game completion.
X-ALT-DESC;FMTTYPE=text/html:Join us as we welcome Cape&#39\;s newest hotel\, Courtyard by Marriott\, with a ribbon cutting.&nbsp\;<br />\n*Actual ribbon cutting time may vary based on completion of Southeast Missouri State University football game completion.&nbsp\;
LOCATION:400 Broadway Cape Girardeau\, MO
UID:e.1421.5684
SEQUENCE:3
DTSTAMP:20260424T104001Z
URL:https://business.capechamber.com/events/details/courtyard-by-marriott-grand-opening-ribbon-cutting-5684
END:VEVENT

END:VCALENDAR
