BEGIN:VCALENDAR
VERSION:2.0
PRODID:-//ChamberMaster//Event Calendar 2.0//EN
METHOD:PUBLISH
X-PUBLISHED-TTL:P3D
REFRESH-INTERVAL:P3D
CALSCALE:GREGORIAN
BEGIN:VEVENT
DTSTART:20170914T213000Z
DTEND:20170914T220000Z
X-MICROSOFT-CDO-ALLDAYEVENT:FALSE
SUMMARY:Credit Bureau Services Ribbon Cutting
DESCRIPTION:Join us as we celebrate Credit Bureau Services' new branding.\n\nRefreshments to follow ribbon cutting.
X-ALT-DESC;FMTTYPE=text/html:Join us as we celebrate Credit Bureau Services&#39\; new branding.<br />\nRefreshments to follow ribbon cutting.
LOCATION:2147 William St. Cape Girardeau\, MO
UID:e.1421.1782
SEQUENCE:3
DTSTAMP:20260423T124656Z
URL:https://business.capechamber.com/events/details/credit-bureau-services-ribbon-cutting-1782
END:VEVENT

END:VCALENDAR
