BEGIN:VCALENDAR
VERSION:2.0
PRODID:-//ChamberMaster//Event Calendar 2.0//EN
METHOD:PUBLISH
X-PUBLISHED-TTL:P3D
REFRESH-INTERVAL:P3D
CALSCALE:GREGORIAN
BEGIN:VEVENT
DTSTART:20180531T170000Z
DTEND:20180531T173000Z
X-MICROSOFT-CDO-ALLDAYEVENT:FALSE
SUMMARY:Cuba Financial Group Ribbon Cutting
DESCRIPTION:Join us as we celebrate Cuba Financial Group's 35th anniversary!
X-ALT-DESC;FMTTYPE=text/html:Join us as we celebrate Cuba Financial Group&#39\;s 35th anniversary!
LOCATION:8 S. Silver Springs Rd. Cape Girardeau\, MO
UID:e.1421.5340
SEQUENCE:3
DTSTAMP:20260424T013040Z
URL:https://business.capechamber.com/events/details/cuba-financial-group-ribbon-cutting-5340
END:VEVENT

END:VCALENDAR
