BEGIN:VCALENDAR
VERSION:2.0
PRODID:-//ChamberMaster//Event Calendar 2.0//EN
METHOD:PUBLISH
X-PUBLISHED-TTL:P3D
REFRESH-INTERVAL:P3D
CALSCALE:GREGORIAN
BEGIN:VEVENT
DTSTART:20180713T143000Z
DTEND:20180713T153000Z
X-MICROSOFT-CDO-ALLDAYEVENT:FALSE
SUMMARY:CYP
DESCRIPTION:Involves young professionals under 40 years of age in the mission of the Chamber for the benefit of each individual member and the strength of the Chamber as a whole both now and in the future.\n\n\n\nContact Taylor Laws or Dana Brune with questions.
X-ALT-DESC;FMTTYPE=text/html:<span style="font-family:albertus mt lt\;"><span style="font-size:10.0pt\;">Involves young professionals under 40 years of age in the mission of the Chamber for the benefit of each individual member and the strength of the Chamber as a whole both now and in the future.<br />\n<br />\nContact Taylor Laws or Dana Brune with questions.</span></span>
LOCATION:Cape Chamber Training Room
UID:e.1421.5377
SEQUENCE:3
DTSTAMP:20260424T053718Z
URL:https://business.capechamber.com/events/details/cyp-5377
END:VEVENT

END:VCALENDAR
