BEGIN:VCALENDAR
VERSION:2.0
PRODID:-//ChamberMaster//Event Calendar 2.0//EN
METHOD:PUBLISH
X-PUBLISHED-TTL:P3D
REFRESH-INTERVAL:P3D
CALSCALE:GREGORIAN
BEGIN:VEVENT
DTSTART:20170829T220000Z
DTEND:20170830T000000Z
X-MICROSOFT-CDO-ALLDAYEVENT:FALSE
SUMMARY:CYP: Speed Networking
DESCRIPTION:The Chamber Young Professionals committee invites you to Speed Networking with Community Leaders on Tuesday\, August 29\, 2017 at Ray's Plaza Banquet Center. Doors will open at 5:00 p.m. and networking will begin at 5:30 p.m. Light hors d'oeuvres and a cash bar will be available.\n\n\n\nParticipants will have the opportunity to sit down one-on-one with leaders from a variety of industries within the Cape Girardeau community. Additionally\, CYP members will have the chance to network with one another in a relaxed\, social setting.\n\n\n\nTo view a list of confirmed community leaders who will be joining us on August 29 or to register\, visit the CYP Facebook Group.
X-ALT-DESC;FMTTYPE=text/html:<span style="color: rgb(75\, 79\, 86)\; font-family: Helvetica\, Arial\, sans-serif\; font-size: 14px\;">The Chamber Young Professionals committee invites you to Speed Networking with Community Leaders on Tuesday\, August 29\, 2017 at Ray&#39\;s Plaza Banquet Center. Doors will open at 5:00 p.m. and networking will begin at 5:30 p.m. Light hors d&#39\;oeuvres and a cash bar will be available.</span><br style="color: rgb(75\, 79\, 86)\; font-family: Helvetica\, Arial\, sans-serif\; font-size: 14px\;" />\n<br style="color: rgb(75\, 79\, 86)\; font-family: Helvetica\, Arial\, sans-serif\; font-size: 14px\;" />\n<span style="color: rgb(75\, 79\, 86)\; font-family: Helvetica\, Arial\, sans-serif\; font-size: 14px\;">Participants will have the opportunity to sit down one-on-one with leaders from a variety of industries within the Cape Girardeau community. Additionally\, CYP members will have the chance to network with one another in a relaxed\, social setting.</span><br style="color: rgb(75\, 79\, 86)\; font-family: Helvetica\, Arial\, sans-serif\; font-size: 14px\;" />\n<br style="color: rgb(75\, 79\, 86)\; font-family: Helvetica\, Arial\, sans-serif\; font-size: 14px\;" />\n<span style="color: rgb(75\, 79\, 86)\; font-family: Helvetica\, Arial\, sans-serif\; font-size: 14px\;">To view a list of confirmed community leaders who will be joining us on August 29 or to register\,&nbsp\;visit the <a href="https://www.facebook.com/groups/capecyp/">CYP Facebook Group</a>.</span>
LOCATION:Ray's Plaza Banquet Center
UID:e.1421.1787
SEQUENCE:3
DTSTAMP:20260423T112501Z
URL:https://business.capechamber.com/events/details/cyp-speed-networking-1787
END:VEVENT

END:VCALENDAR
