BEGIN:VCALENDAR
VERSION:2.0
PRODID:-//ChamberMaster//Event Calendar 2.0//EN
METHOD:PUBLISH
X-PUBLISHED-TTL:P3D
REFRESH-INTERVAL:P3D
CALSCALE:GREGORIAN
BEGIN:VEVENT
DTSTART:20170907T230000Z
DTEND:20170908T023000Z
X-MICROSOFT-CDO-ALLDAYEVENT:FALSE
SUMMARY:Dale Carnegie Course
DESCRIPTION:Hendrickson Business Advisors' Dale Carnegie Course begins September 7\, 2017 and runs until October 26\, 2017. This 8-week course will meet on Thursday evenings from 6:00-9:30 PM at their office.\n\n\n\nRegister here
X-ALT-DESC;FMTTYPE=text/html:<span style="font-size:14px\;"><span style="font-family:arial\;">Hendrickson Business Advisors&#39\; Dale Carnegie Course begins September 7\, 2017 and runs until October 26\, 2017. This&nbsp\;<span style="color: rgb(0\, 0\, 0)\;">8-week course will meet on Thursday evenings from 6:00-9:30 PM at their office.<br />\n<br />\n<a href="https://stlouis.dalecarnegie.com/events/dale-carnegie-course/20170907/201710/Cape-Girardeau/MO/register/?carttype=event">Register here</a></span></span></span>
LOCATION:
UID:e.1421.1760
SEQUENCE:3
DTSTAMP:20260423T124408Z
URL:https://business.capechamber.com/events/details/dale-carnegie-course-1760
END:VEVENT

END:VCALENDAR
