BEGIN:VCALENDAR
VERSION:2.0
PRODID:-//ChamberMaster//Event Calendar 2.0//EN
METHOD:PUBLISH
X-PUBLISHED-TTL:P3D
REFRESH-INTERVAL:P3D
CALSCALE:GREGORIAN
BEGIN:VEVENT
DTSTART:20180202T000000Z
DTEND:20180202T033000Z
X-MICROSOFT-CDO-ALLDAYEVENT:FALSE
SUMMARY:Dale Carnegie Course
DESCRIPTION:This course will help you master the communication skills necessary in today's demanding business environment. You will learn to strengthen interpersonal relationships and develop a commanding attitude\, instilling confidence and enthusiasm in your workplace.  \n\n\n\nWinter 8-week evening course \n\nThursday evenings\n\n6:00-9:30 PM\n\nFebruary 1-March 22\, 2018\n\n\n\nInvestment: $1\,695\n\n\n\nRegister at HendricksonBusinessAdvisors.com
X-ALT-DESC;FMTTYPE=text/html:This course will help you master the communication skills necessary in today&rsquo\;s demanding business environment. You will learn to strengthen interpersonal relationships and develop a commanding attitude\, instilling confidence and enthusiasm in your workplace.&nbsp\;&nbsp\;<br />\n<br />\n<u><strong>Winter 8-week evening course </strong></u><br />\nThursday evenings<br />\n6:00-9:30 PM<br />\nFebruary 1-March 22\, 2018<br />\n<br />\n<strong>Investment: $1\,695<br />\n<br />\nRegister at HendricksonBusinessAdvisors.com</strong>
LOCATION:
UID:e.1421.1803
SEQUENCE:3
DTSTAMP:20260423T205852Z
URL:https://business.capechamber.com/events/details/dale-carnegie-course-1803
END:VEVENT

END:VCALENDAR
