BEGIN:VCALENDAR
VERSION:2.0
PRODID:-//ChamberMaster//Event Calendar 2.0//EN
METHOD:PUBLISH
X-PUBLISHED-TTL:P3D
REFRESH-INTERVAL:P3D
CALSCALE:GREGORIAN
BEGIN:VEVENT
DTSTART:20180410T130000Z
DTEND:20180410T220000Z
X-MICROSOFT-CDO-ALLDAYEVENT:FALSE
SUMMARY:Dale Carnegie Course
DESCRIPTION:This course will help you master the communication skills necessary in today's demanding business environment. You will learn to strengthen interpersonal relationships and develop a commanding attitude\, instilling confidence and enthusiasm in your workplace.  \n\n\n\nSpring 3-day daytime course \n\nThree consecutive days\n\n8:00 AM - 5:00 PM\n\nApril 10-12\, 2018\n\n\n\nInvestment: $1\,695\n\n\n\nRegister at HendricksonBusinessAdvisors.com
X-ALT-DESC;FMTTYPE=text/html:This course will help you master the communication skills necessary in today&rsquo\;s demanding business environment. You will learn to strengthen interpersonal relationships and develop a commanding attitude\, instilling confidence and enthusiasm in your workplace.&nbsp\;&nbsp\;<br />\n<br />\n<u><strong>Spring 3-day daytime course&nbsp\;</strong></u><br />\nThree consecutive days<br />\n8:00 AM - 5:00 PM<br />\nApril&nbsp\;10-12\, 2018<br />\n<br />\n<strong>Investment: $1\,695<br />\n<br />\nRegister at HendricksonBusinessAdvisors.com</strong>
LOCATION:
UID:e.1421.1804
SEQUENCE:3
DTSTAMP:20260423T235415Z
URL:https://business.capechamber.com/events/details/dale-carnegie-course-1804
END:VEVENT

END:VCALENDAR
