BEGIN:VCALENDAR
VERSION:2.0
PRODID:-//ChamberMaster//Event Calendar 2.0//EN
METHOD:PUBLISH
X-PUBLISHED-TTL:P3D
REFRESH-INTERVAL:P3D
CALSCALE:GREGORIAN
BEGIN:VEVENT
DTSTART:20180911T130000Z
DTEND:20180911T220000Z
X-MICROSOFT-CDO-ALLDAYEVENT:FALSE
SUMMARY:Dale Carnegie Course
DESCRIPTION:This course will help you master the communication skills necessary in today's demanding business environment. You will learn to strengthen interpersonal relationships and develop a commanding attitude\, instilling confidence and enthusiasm in your workplace. \n\n\n\nFall 3-day daytime course \n\nThree consecutive days\n\n8:00 AM - 5:00 PM\n\nSeptember 11-13\, 2018 \n\n\n\nInvestment: $1\,695\n\n\n\nRegister at HendricksonBusinessAdvisors.com
X-ALT-DESC;FMTTYPE=text/html:This course will help you master the communication skills necessary in today&rsquo\;s demanding business environment. You will learn to strengthen interpersonal relationships and develop a commanding attitude\, instilling confidence and enthusiasm in your workplace.&nbsp\;<br />\n<br />\n<u><strong>Fall 3-day daytime course </strong></u><br />\nThree consecutive days<br />\n8:00 AM - 5:00 PM<br />\nSeptember 11-13\, 2018&nbsp\;<br />\n<br />\n<strong>Investment: $1\,695<br />\n<br />\nRegister at HendricksonBusinessAdvisors.com</strong><br />\n&nbsp\;
LOCATION:
UID:e.1421.1807
SEQUENCE:3
DTSTAMP:20260424T071554Z
URL:https://business.capechamber.com/events/details/dale-carnegie-course-1807
END:VEVENT

END:VCALENDAR
