BEGIN:VCALENDAR
VERSION:2.0
PRODID:-//ChamberMaster//Event Calendar 2.0//EN
METHOD:PUBLISH
X-PUBLISHED-TTL:P3D
REFRESH-INTERVAL:P3D
CALSCALE:GREGORIAN
BEGIN:VEVENT
DTSTART:20180928T130000Z
DTEND:20180928T163000Z
X-MICROSOFT-CDO-ALLDAYEVENT:FALSE
SUMMARY:Dale Carnegie Course
DESCRIPTION:This course will help you master the communication skills necessary in today's demanding business environment. You will learn to strengthen interpersonal relationships and develop a commanding attitude\, instilling confidence and enthusiasm in your workplace. \n\n\n\nFall 8-week daytime course \n\nFriday daytime\n\n8:00 AM - 11:30 AM\n\nSeptember 28 - November 16\, 2018 \n\n\n\nInvestment: $1\,695\n\n\n\nRegister at HendricksonBusinessAdvisors.com
X-ALT-DESC;FMTTYPE=text/html:This course will help you master the communication skills necessary in today&rsquo\;s demanding business environment. You will learn to strengthen interpersonal relationships and develop a commanding attitude\, instilling confidence and enthusiasm in your workplace.&nbsp\;<br />\n<br />\n<u><strong>Fall 8-week daytime course&nbsp\;</strong></u><br />\nFriday daytime<br />\n8:00 AM - 11:30 AM<br />\nSeptember 28 - November 16\, 2018&nbsp\;<br />\n<br />\n<strong>Investment: $1\,695<br />\n<br />\nRegister at HendricksonBusinessAdvisors.com</strong>
LOCATION:
UID:e.1421.1808
SEQUENCE:3
DTSTAMP:20260424T071554Z
URL:https://business.capechamber.com/events/details/dale-carnegie-course-1808
END:VEVENT

END:VCALENDAR
