BEGIN:VCALENDAR
VERSION:2.0
PRODID:-//ChamberMaster//Event Calendar 2.0//EN
METHOD:PUBLISH
X-PUBLISHED-TTL:P3D
REFRESH-INTERVAL:P3D
CALSCALE:GREGORIAN
BEGIN:VEVENT
DTSTART:20180112T000000Z
DTEND:20180112T010000Z
X-MICROSOFT-CDO-ALLDAYEVENT:FALSE
SUMMARY:Dale Carnegie Preview Event
DESCRIPTION:Ever wondered what Dale Carnegie is all about? Attend a preview event to get a sense of Hendrickson Business Advisors' training style and get an understanding of each course's content to pick the one that is best for you.  \n\n\n\nInvestment: Free\n\n\n\nRegister at HendricksonBusinessAdvisors.com
X-ALT-DESC;FMTTYPE=text/html:Ever wondered what Dale Carnegie is all about? Attend a preview event&nbsp\;to get a sense of Hendrickson Business Advisors&#39\; training style and get an understanding of each course&#39\;s content to pick the one that is best for you.&nbsp\;&nbsp\;<br />\n<br />\n<strong>Investment: Free<br />\n<br />\nRegister at HendricksonBusinessAdvisors.com</strong>
LOCATION:
UID:e.1421.1802
SEQUENCE:3
DTSTAMP:20260423T191752Z
URL:https://business.capechamber.com/events/details/dale-carnegie-preview-event-1802
END:VEVENT

END:VCALENDAR
