BEGIN:VCALENDAR
VERSION:2.0
PRODID:-//ChamberMaster//Event Calendar 2.0//EN
METHOD:PUBLISH
X-PUBLISHED-TTL:P3D
REFRESH-INTERVAL:P3D
CALSCALE:GREGORIAN
BEGIN:VEVENT
DTSTART:20191017T150000Z
DTEND:20191017T153000Z
X-MICROSOFT-CDO-ALLDAYEVENT:FALSE
SUMMARY:Dana's Hallmark Shop Ribbon Cutting
DESCRIPTION:Join us as we help Dana's Hallmark Shop celebrate their grand opening with a ribbon cutting!
X-ALT-DESC;FMTTYPE=text/html:Join us as we help Dana&#39\;s Hallmark Shop celebrate their grand opening with a ribbon cutting!
LOCATION:2136 William Street\, Suite 130 Cape Girardeau\, MO
UID:e.1421.6488
SEQUENCE:3
DTSTAMP:20260423T163200Z
URL:https://business.capechamber.com/events/details/dana-s-hallmark-shop-ribbon-cutting-6488
END:VEVENT

END:VCALENDAR
