BEGIN:VCALENDAR
VERSION:2.0
PRODID:-//ChamberMaster//Event Calendar 2.0//EN
METHOD:PUBLISH
X-PUBLISHED-TTL:P3D
REFRESH-INTERVAL:P3D
CALSCALE:GREGORIAN
BEGIN:VEVENT
DTSTART:20180319T193000Z
DTEND:20180319T204500Z
X-MICROSOFT-CDO-ALLDAYEVENT:FALSE
SUMMARY:Developing Leaders Around You MasterMind Group
DESCRIPTION:Developing the Leaders Around You - Whether you are a business owner who needs to hire the right leaders to grow your company or you are ready to train up existing team members to fill leadership roles within your organization\, there is no greater responsibility than equipping\, nurturing and developing potential leaders. The Developing the Leaders Around You MasterMind Group will help you map out a plan of action for recognizing the potential in your team so that you can grow them into leaders who develop other leaders. It will also help you become better at identifying and hiring the right talent for your company.\n\n\n\nThe Developing the Leaders Around You MasterMind group meets for 75 minutes per week to discuss the book\, to share personal interpretations of the material\, to learn from their peers\, and to put principle to practice in their personal and professional lives.\n\n\n\nMeets Mondays March 19\, 2018 - May 7\, 2018\n\n2:30-3:45 p.m.    \n\n\n\n $275/participant (includes all 8 sessions and a free copy of the book)\n\n\n\nTo register\, please view our website at: https://www.glennpr.com/mastermind-registration-form.html
X-ALT-DESC;FMTTYPE=text/html:Developing the Leaders Around You - Whether you are a business owner who needs to hire the right leaders to grow your company or you are ready to train up existing team members to fill leadership roles within your organization\, there is no greater responsibility than equipping\, nurturing and developing potential leaders. The Developing the Leaders Around You MasterMind Group will help you map out a plan of action for recognizing the potential in your team so that you can grow them into leaders who develop other leaders. It will also help you become better at identifying and hiring the right talent for your company.<br />\n<br />\nThe Developing the Leaders Around You MasterMind group meets for 75 minutes per week to discuss the book\, to share personal interpretations of the material\, to learn from their peers\, and to put principle to practice in their personal and professional lives.<br />\n<br />\nMeets Mondays March 19\, 2018 - May 7\, 2018<br />\n2:30-3:45 p.m.&nbsp\;&nbsp\;&nbsp\;&nbsp\;<br />\n<br />\n&nbsp\;$275/participant (includes all 8 sessions and a free copy of the book)<br />\n<br />\nTo register\, please view our website at: <a href="https://www.glennpr.com/mastermind-registration-form.html">https://www.glennpr.com/mastermind-registration-form.html</a><br />\n&nbsp\;
LOCATION:The Concourse 429 N. Broadview Cape Girardeau\, MO 63701
UID:e.1421.3898
SEQUENCE:3
DTSTAMP:20260423T221857Z
URL:https://business.capechamber.com/events/details/developing-leaders-around-you-mastermind-group-3898
END:VEVENT

END:VCALENDAR
