BEGIN:VCALENDAR
VERSION:2.0
PRODID:-//ChamberMaster//Event Calendar 2.0//EN
METHOD:PUBLISH
X-PUBLISHED-TTL:P3D
REFRESH-INTERVAL:P3D
CALSCALE:GREGORIAN
BEGIN:VEVENT
DTSTART:20260521T213000Z
DTEND:20260521T220000Z
X-MICROSOFT-CDO-ALLDAYEVENT:FALSE
SUMMARY:Discovery Playhouse Ribbon Cutting
DESCRIPTION:Join us as we celebrate the new exhibit at Discovery Playhouse with a ribbon cutting!
X-ALT-DESC;FMTTYPE=text/html:Join us as we celebrate the new exhibit at&nbsp\;<a href="https://business.capechamber.com/list/member/discovery-playhouse-a-children-s-museum-4110"><span style="color: rgb(0\, 204\, 51)\;">Discovery Playhouse</span></a>&nbsp\;with a ribbon cutting!
LOCATION:502 Broadway Street Cape Girardeau\, MO 63701
UID:e.1421.12721
SEQUENCE:3
DTSTAMP:20260422T085200Z
URL:https://business.capechamber.com/events/details/discovery-playhouse-ribbon-cutting-12721
END:VEVENT

END:VCALENDAR
