BEGIN:VCALENDAR
VERSION:2.0
PRODID:-//ChamberMaster//Event Calendar 2.0//EN
METHOD:PUBLISH
X-PUBLISHED-TTL:P3D
REFRESH-INTERVAL:P3D
CALSCALE:GREGORIAN
BEGIN:VEVENT
DTSTART:20171114T190000Z
DTEND:20171114T193000Z
X-MICROSOFT-CDO-ALLDAYEVENT:FALSE
SUMMARY:Doctors Park Animal Hospital
DESCRIPTION:Join us as we celebrate new business!
X-ALT-DESC;FMTTYPE=text/html:Join us as we celebrate new business!
LOCATION:63 Doctors Park Cape Girardeau\, MO
UID:e.1421.1819
SEQUENCE:3
DTSTAMP:20260423T155129Z
URL:https://business.capechamber.com/events/details/doctors-park-animal-hospital-1819
END:VEVENT

END:VCALENDAR
