BEGIN:VCALENDAR
VERSION:2.0
PRODID:-//ChamberMaster//Event Calendar 2.0//EN
METHOD:PUBLISH
X-PUBLISHED-TTL:P3D
REFRESH-INTERVAL:P3D
CALSCALE:GREGORIAN
BEGIN:VEVENT
DTSTART:20181108T183000Z
DTEND:20181108T190000Z
X-MICROSOFT-CDO-ALLDAYEVENT:FALSE
SUMMARY:Doctors' Park Animal Hospital Ribbon Cutting
DESCRIPTION:Join us as we help celebrate Doctors' Park Animal Hospital's first year in business. Light refreshments will be provided.
X-ALT-DESC;FMTTYPE=text/html:Join us as we help celebrate Doctors&#39\; Park Animal Hospital&#39\;s first year in business. Light refreshments will be provided.&nbsp\;
LOCATION:63 Doctors' Park Cape Girardeau\, MO
UID:e.1421.5675
SEQUENCE:3
DTSTAMP:20260424T091538Z
URL:https://business.capechamber.com/events/details/doctors-park-animal-hospital-ribbon-cutting-5675
END:VEVENT

END:VCALENDAR
