BEGIN:VCALENDAR
VERSION:2.0
PRODID:-//ChamberMaster//Event Calendar 2.0//EN
METHOD:PUBLISH
X-PUBLISHED-TTL:P3D
REFRESH-INTERVAL:P3D
CALSCALE:GREGORIAN
BEGIN:VEVENT
DTSTART:20190211T210000Z
DTEND:20190211T213000Z
X-MICROSOFT-CDO-ALLDAYEVENT:FALSE
SUMMARY:Dogwood Social House Ribbon Cutting
DESCRIPTION:Join us as we help Dogwood Social House celebrate their Grand Opening!
X-ALT-DESC;FMTTYPE=text/html:Join us as we help Dogwood Social House celebrate their Grand Opening!&nbsp\;
LOCATION:80 South Plaza Way Cape Girardeau\, MO
UID:e.1421.5883
SEQUENCE:3
DTSTAMP:20260424T044332Z
URL:https://business.capechamber.com/events/details/dogwood-social-house-ribbon-cutting-5883
END:VEVENT

END:VCALENDAR
