BEGIN:VCALENDAR
VERSION:2.0
PRODID:-//ChamberMaster//Event Calendar 2.0//EN
METHOD:PUBLISH
X-PUBLISHED-TTL:P3D
REFRESH-INTERVAL:P3D
CALSCALE:GREGORIAN
BEGIN:VEVENT
DTSTART:20171020T200000Z
DTEND:20171020T203000Z
X-MICROSOFT-CDO-ALLDAYEVENT:FALSE
SUMMARY:Don Carlos Ribbon Cutting
DESCRIPTION:Join us as we celebrate the grand opening of Don Carlos' second location in Chaffee.
X-ALT-DESC;FMTTYPE=text/html:Join us as we celebrate the grand opening of Don Carlos&#39\; second location in Chaffee.
LOCATION:105 W Yoakum Ave Chaffee\, MO
UID:e.1421.1813
SEQUENCE:3
DTSTAMP:20260423T141848Z
URL:https://business.capechamber.com/events/details/don-carlos-ribbon-cutting-1813
END:VEVENT

END:VCALENDAR
