BEGIN:VCALENDAR
VERSION:2.0
PRODID:-//ChamberMaster//Event Calendar 2.0//EN
METHOD:PUBLISH
X-PUBLISHED-TTL:P3D
REFRESH-INTERVAL:P3D
CALSCALE:GREGORIAN
BEGIN:VEVENT
DTSTART:20170713T203000Z
DTEND:20170713T210000Z
X-MICROSOFT-CDO-ALLDAYEVENT:FALSE
SUMMARY:Downtown Trolley Ribbon Cutting
DESCRIPTION:Join us as we celebrate the arrival of the Downtown Trolley!
X-ALT-DESC;FMTTYPE=text/html:Join us as we celebrate the arrival of the Downtown Trolley!
LOCATION:Public lot at Broadway and Middle Streets
UID:e.1421.1773
SEQUENCE:3
DTSTAMP:20260423T101440Z
URL:https://business.capechamber.com/events/details/downtown-trolley-ribbon-cutting-1773
END:VEVENT

END:VCALENDAR
