BEGIN:VCALENDAR
VERSION:2.0
PRODID:-//ChamberMaster//Event Calendar 2.0//EN
METHOD:PUBLISH
X-PUBLISHED-TTL:P3D
REFRESH-INTERVAL:P3D
CALSCALE:GREGORIAN
BEGIN:VEVENT
DTSTART:20170907T161500Z
DTEND:20170907T164500Z
X-MICROSOFT-CDO-ALLDAYEVENT:FALSE
SUMMARY:Drury Plaza Hotel and Conference Center Ribbon Cutting
DESCRIPTION:Join us as we celebrate Drury's newest addition!
X-ALT-DESC;FMTTYPE=text/html:Join us as we celebrate Drury&#39\;s newest addition!
LOCATION:Drury
UID:e.1421.1775
SEQUENCE:3
DTSTAMP:20260423T130420Z
URL:https://business.capechamber.com/events/details/drury-plaza-hotel-and-conference-center-ribbon-cutting-1775
END:VEVENT

END:VCALENDAR
