BEGIN:VCALENDAR
VERSION:2.0
PRODID:-//ChamberMaster//Event Calendar 2.0//EN
METHOD:PUBLISH
X-PUBLISHED-TTL:P3D
REFRESH-INTERVAL:P3D
CALSCALE:GREGORIAN
BEGIN:VEVENT
DTSTART:20171208T170000Z
DTEND:20171208T173000Z
X-MICROSOFT-CDO-ALLDAYEVENT:FALSE
SUMMARY:Easy Money Ribbon Cutting
DESCRIPTION:Join us as we celebrate the exterior remodel of Easy Money!
X-ALT-DESC;FMTTYPE=text/html:Join us as we celebrate the exterior remodel of Easy Money!
LOCATION:320 N Kingshighway Cape Girardeau\, MO
UID:e.1421.1827
SEQUENCE:3
DTSTAMP:20260423T174017Z
URL:https://business.capechamber.com/events/details/easy-money-ribbon-cutting-1827
END:VEVENT

END:VCALENDAR
