BEGIN:VCALENDAR
VERSION:2.0
PRODID:-//ChamberMaster//Event Calendar 2.0//EN
METHOD:PUBLISH
X-PUBLISHED-TTL:P3D
REFRESH-INTERVAL:P3D
CALSCALE:GREGORIAN
BEGIN:VEVENT
DTSTART:20181023T163000Z
DTEND:20181023T170000Z
X-MICROSOFT-CDO-ALLDAYEVENT:FALSE
SUMMARY:El Sol Ribbon Cutting
DESCRIPTION:Join us as we help El Sol celebrate 5 years in business with a ribbon cutting.
X-ALT-DESC;FMTTYPE=text/html:Join us as we help El Sol celebrate 5 years in business with a ribbon cutting.&nbsp\;
LOCATION:1105 Broadway Cape Girardeau\, MO
UID:e.1421.5681
SEQUENCE:3
DTSTAMP:20260424T090254Z
URL:https://business.capechamber.com/events/details/el-sol-ribbon-cutting-5681
END:VEVENT

END:VCALENDAR
