BEGIN:VCALENDAR
VERSION:2.0
PRODID:-//ChamberMaster//Event Calendar 2.0//EN
METHOD:PUBLISH
X-PUBLISHED-TTL:P3D
REFRESH-INTERVAL:P3D
CALSCALE:GREGORIAN
BEGIN:VEVENT
DTSTART:20180111T223000Z
DTEND:20180112T000000Z
X-MICROSOFT-CDO-ALLDAYEVENT:FALSE
SUMMARY:Elevate
DESCRIPTION:Join the Chamber Young Professionals at this quarterly event to grow your network and grow your knowledge. Doors will open at 4:30 p.m. for general networking and a brief program will begin at 5:00 p.m.\n\n\n\nFirst quarter program: CYP 101\n\nFrom quarterly events to a Young Professionals Summit\, 2018 is bringing many new and exciting changes for the Chamber Young Professionals. Join us at Elevate to learn more about these changes and how you can get involved!\n\n\n\nThere is no fee to attend this event. Light appetizers will be provided\, and a bar will be available.
X-ALT-DESC;FMTTYPE=text/html:Join the Chamber Young Professionals at this quarterly event to grow your network and grow your knowledge. Doors will open at 4:30 p.m. for general networking and a brief program will begin at 5:00 p.m.<br />\n<br />\nFirst quarter program: CYP 101<br />\nFrom quarterly events to a&nbsp\;Young Professionals Summit\, 2018 is bringing many new and exciting changes for the Chamber Young Professionals. Join us at Elevate to learn more about these changes and how you can get involved!<br />\n<br />\nThere is no fee to&nbsp\;attend this event. Light appetizers will be provided\, and a bar will be available.&nbsp\;
LOCATION:Katy O'Ferrells 300 Broadway Cape Girardeau\, MO
UID:e.1421.1834
SEQUENCE:3
DTSTAMP:20260423T191615Z
URL:https://business.capechamber.com/events/details/elevate-1834
END:VEVENT

END:VCALENDAR
