BEGIN:VCALENDAR
VERSION:2.0
PRODID:-//ChamberMaster//Event Calendar 2.0//EN
METHOD:PUBLISH
X-PUBLISHED-TTL:P3D
REFRESH-INTERVAL:P3D
CALSCALE:GREGORIAN
BEGIN:VEVENT
DTSTART:20190122T223000Z
DTEND:20190122T233000Z
X-MICROSOFT-CDO-ALLDAYEVENT:FALSE
SUMMARY:Elevate
DESCRIPTION:Sometimes life feels like an intense balancing act - juggling various things like work\, family\, finances\, the list goes on. Start the year off right by joining CYP to learn not just how to manage life's balancing act\, but how to be good at it!\n\n\n\nDoors open at 4:30 p.m.\n\nProgram begins at 5:00 p.m.
X-ALT-DESC;FMTTYPE=text/html:Sometimes life feels like an intense balancing act - juggling various things like work\, family\, finances\, the list goes on. Start the year off right by joining CYP to learn not just how to manage life&#39\;s balancing act\, but how to be good at it!<br />\n<br />\nDoors open at 4:30 p.m.<br />\nProgram begins at 5:00 p.m.
LOCATION:Katy O'Ferrell's 300 Broadway Cape Girardeau\, MO
UID:e.1421.5710
SEQUENCE:3
DTSTAMP:20260424T055658Z
URL:https://business.capechamber.com/events/details/elevate-5710
END:VEVENT

END:VCALENDAR
