BEGIN:VCALENDAR
VERSION:2.0
PRODID:-//ChamberMaster//Event Calendar 2.0//EN
METHOD:PUBLISH
X-PUBLISHED-TTL:P3D
REFRESH-INTERVAL:P3D
CALSCALE:GREGORIAN
BEGIN:VEVENT
DTSTART:20191022T213000Z
DTEND:20191022T230000Z
X-MICROSOFT-CDO-ALLDAYEVENT:FALSE
SUMMARY:Elevate
DESCRIPTION:Join the Chamber Young Professionals for a evening of networking. Appetizers will be provided and beverages will be available.
X-ALT-DESC;FMTTYPE=text/html:Join the Chamber Young Professionals for a evening of networking. Appetizers will be provided and beverages will be available.
LOCATION:Katy O'Ferrell's
UID:e.1421.6491
SEQUENCE:3
DTSTAMP:20260423T162714Z
URL:https://business.capechamber.com/events/details/elevate-6491
END:VEVENT

END:VCALENDAR
